BEGIN:VCALENDAR
VERSION:2.0
PRODID:spatie/icalendar-generator
DESCRIPTION:Events from The Cross And The Lotus
X-WR-CALDESC:Events from The Cross And The Lotus
REFRESH-INTERVAL;VALUE=DURATION:PT1440M
X-PUBLISHED-TTL:PT1440M
BEGIN:VTIMEZONE
TZID:Etc/GMT+0
BEGIN:STANDARD
DTSTART:20250702T110000Z
TZOFFSETFROM:+0000
TZOFFSETTO:+0000
END:STANDARD
END:VTIMEZONE
BEGIN:VTIMEZONE
TZID:UTC
BEGIN:STANDARD
DTSTART:20250727T130219Z
TZOFFSETFROM:+0000
TZOFFSETTO:+0000
END:STANDARD
END:VTIMEZONE
BEGIN:VEVENT
UID:19668-7412
DTSTAMP:20260423T130219Z
SUMMARY:Sunday Service at Koler's Camano Island in person and Zoom
LOCATION:Rev. Larry and Cate Koler\\'s Home   Camano Island WA 98282
ORGANIZER;CN=Jill Hough:MAILTO:3houghs@msn.com
RRULE:FREQ=WEEKLY;UNTIL=20260628T000000Z
DTSTART;TZID=Etc/GMT+0:20260329T110000
DTEND;TZID=Etc/GMT+0:20260329T120000
X-ALT-DESC;FMTTYPE=TEXT/HTML:
CATEGORIES:General
URL;VALUE=URI:https://www.crossandlotus.com/calendar/sunday-service-at-kole
 rs-camano-island-in-person-and-zoom/?mc_id=19668
METHOD:PUBLISH
END:VEVENT
END:VCALENDAR