BEGIN:VCALENDAR
VERSION:2.0
PRODID:spatie/icalendar-generator
DESCRIPTION:Events from The Cross And The Lotus
X-WR-CALDESC:Events from The Cross And The Lotus
REFRESH-INTERVAL;VALUE=DURATION:PT1440M
X-PUBLISHED-TTL:PT1440M
BEGIN:VTIMEZONE
TZID:Etc/GMT+0
BEGIN:STANDARD
DTSTART:20250731T180000Z
TZOFFSETFROM:+0000
TZOFFSETTO:+0000
END:STANDARD
END:VTIMEZONE
BEGIN:VTIMEZONE
TZID:UTC
BEGIN:STANDARD
DTSTART:20250727T125158Z
TZOFFSETFROM:+0000
TZOFFSETTO:+0000
END:STANDARD
END:VTIMEZONE
BEGIN:VEVENT
UID:19692-7415
DTSTAMP:20260423T125158Z
SUMMARY:Monday Night service Zoom and Live in Ashland at Rev Peter's Home
LOCATION:
ORGANIZER;CN=Jill Hough:MAILTO:3houghs@msn.com
RRULE:FREQ=WEEKLY;UNTIL=20260727T000000Z
DTSTART;TZID=Etc/GMT+0:20260427T180000
DTEND;TZID=Etc/GMT+0:20260427T190000
X-ALT-DESC;FMTTYPE=TEXT/HTML:This is a resharing of Sunday service with Pet
 er facilitating\, people are welcome to join in person
CATEGORIES:General
URL;VALUE=URI:https://www.crossandlotus.com/calendar/monday-night-service-z
 oom-and-live-in-ashland-at-rev-peters-home/?mc_id=19692
METHOD:PUBLISH
END:VEVENT
END:VCALENDAR