BEGIN:VCALENDAR
VERSION:2.0
PRODID:spatie/icalendar-generator
DESCRIPTION:Events from The Cross And The Lotus
X-WR-CALDESC:Events from The Cross And The Lotus
REFRESH-INTERVAL;VALUE=DURATION:PT1440M
X-PUBLISHED-TTL:PT1440M
BEGIN:VTIMEZONE
TZID:Etc/GMT+0
BEGIN:STANDARD
DTSTART:20250702T193000Z
TZOFFSETFROM:+0000
TZOFFSETTO:+0000
END:STANDARD
END:VTIMEZONE
BEGIN:VTIMEZONE
TZID:UTC
BEGIN:STANDARD
DTSTART:20250727T130057Z
TZOFFSETFROM:+0000
TZOFFSETTO:+0000
END:STANDARD
END:VTIMEZONE
BEGIN:VEVENT
UID:19710-7422
DTSTAMP:20260423T130057Z
SUMMARY:No Gita Class tonight
LOCATION:
ORGANIZER;CN=Jill Hough:MAILTO:3houghs@msn.com
DTSTART;TZID=Etc/GMT+0:20260329T193000
DTEND;TZID=Etc/GMT+0:20260329T203000
X-ALT-DESC;FMTTYPE=TEXT/HTML:
CATEGORIES:General
URL;VALUE=URI:https://www.crossandlotus.com/calendar/no-gita-class-tonight/
METHOD:PUBLISH
END:VEVENT
END:VCALENDAR