BEGIN:VCALENDAR
VERSION:2.0
PRODID:spatie/icalendar-generator
DESCRIPTION:Events from The Cross And The Lotus
X-WR-CALDESC:Events from The Cross And The Lotus
REFRESH-INTERVAL;VALUE=DURATION:PT1440M
X-PUBLISHED-TTL:PT1440M
BEGIN:VTIMEZONE
TZID:Etc/GMT+0
BEGIN:STANDARD
DTSTART:20250730T193000Z
TZOFFSETFROM:+0000
TZOFFSETTO:+0000
END:STANDARD
END:VTIMEZONE
BEGIN:VTIMEZONE
TZID:UTC
BEGIN:STANDARD
DTSTART:20250727T125213Z
TZOFFSETFROM:+0000
TZOFFSETTO:+0000
END:STANDARD
END:VTIMEZONE
BEGIN:VEVENT
UID:19714-7416
DTSTAMP:20260423T125213Z
SUMMARY:Gita Class
LOCATION:
ORGANIZER;CN=Jill Hough:MAILTO:3houghs@msn.com
RRULE:FREQ=WEEKLY;UNTIL=20260628T000000Z
DTSTART;TZID=Etc/GMT+0:20260426T193000
DTEND;TZID=Etc/GMT+0:20260426T203000
X-ALT-DESC;FMTTYPE=TEXT/HTML:
CATEGORIES:General
URL;VALUE=URI:https://www.crossandlotus.com/calendar/gita-class/?mc_id=1971
 4
METHOD:PUBLISH
END:VEVENT
END:VCALENDAR