BEGIN:VCALENDAR
VERSION:2.0
PRODID:spatie/icalendar-generator
DESCRIPTION:Events from The Cross And The Lotus
X-WR-CALDESC:Events from The Cross And The Lotus
REFRESH-INTERVAL;VALUE=DURATION:PT1440M
X-PUBLISHED-TTL:PT1440M
BEGIN:VTIMEZONE
TZID:Etc/GMT+0
BEGIN:STANDARD
DTSTART:20250726T193000Z
TZOFFSETFROM:+0000
TZOFFSETTO:+0000
END:STANDARD
END:VTIMEZONE
BEGIN:VTIMEZONE
TZID:UTC
BEGIN:STANDARD
DTSTART:20250727T125157Z
TZOFFSETFROM:+0000
TZOFFSETTO:+0000
END:STANDARD
END:VTIMEZONE
BEGIN:VEVENT
UID:19732-7419
DTSTAMP:20260423T125157Z
SUMMARY:Wednesday Night service Zoom and Live in Ferndale with Dinner
LOCATION:
ORGANIZER;CN=Jill Hough:MAILTO:3houghs@msn.com
RRULE:FREQ=WEEKLY;UNTIL=20260624T000000Z
DTSTART;TZID=Etc/GMT+0:20260422T193000
DTEND;TZID=Etc/GMT+0:20260422T203000
X-ALT-DESC;FMTTYPE=TEXT/HTML:Join us on Zoom or in Ferndale at Rev Jill's h
 ouse.  You are invite to join us for dinner at around 6 before if you wou
 ld like\, please RSVP.
CATEGORIES:General
URL;VALUE=URI:https://www.crossandlotus.com/calendar/wednesday-night-servic
 e-zoom-and-live-in-ferndale-with-dinner/?mc_id=19732
METHOD:PUBLISH
END:VEVENT
END:VCALENDAR