BEGIN:VCALENDAR
VERSION:2.0
PRODID:spatie/icalendar-generator
DESCRIPTION:Events from The Cross And The Lotus
X-WR-CALDESC:Events from The Cross And The Lotus
REFRESH-INTERVAL;VALUE=DURATION:PT1440M
X-PUBLISHED-TTL:PT1440M
BEGIN:VTIMEZONE
TZID:Etc/GMT+0
BEGIN:STANDARD
DTSTART:20250709T110000Z
TZOFFSETFROM:+0000
TZOFFSETTO:+0000
END:STANDARD
END:VTIMEZONE
BEGIN:VTIMEZONE
TZID:UTC
BEGIN:STANDARD
DTSTART:20250727T125213Z
TZOFFSETFROM:+0000
TZOFFSETTO:+0000
END:STANDARD
END:VTIMEZONE
BEGIN:VEVENT
UID:19746-7424
DTSTAMP:20260423T125213Z
SUMMARY:Easter Service At Koler's followed by a potluck lunch
LOCATION:
ORGANIZER;CN=Cate:MAILTO:cate.koler@gmail.com
DTSTART;TZID=Etc/GMT+0:20260405T110000
DTEND;TZID=Etc/GMT+0:20260405T120000
X-ALT-DESC;FMTTYPE=TEXT/HTML:We hope you can join us for our celebration of
  Easter this year. Date: April 5 Time: Service will start at 11:00 a.m. an
 d a potluck will follow. The service will be broadcast on Zoom.
CATEGORIES:General
URL;VALUE=URI:https://www.crossandlotus.com/calendar/easter-service-at-kole
 rs-followed-by-a-potluck-lunch/
METHOD:PUBLISH
END:VEVENT
END:VCALENDAR